BEGIN:VCALENDAR
VERSION:2.0
METHOD:PUBLISH
X-WR-CALNAME:Bittenfeld _2026-09-24
PRODID:-//www.se-winnenden.de//iCal
X-WR-CALDESC:ökum. KGR-Sitzung
X-WR-TIMEZONE:Europe/Berlin
CALSCALE:GREGORIAN
BEGIN:VEVENT
UID:SEWSL-Bittenfeld -b15162255
DESCRIPTION:ökum. KGR-Sitzung
SUMMARY:ökum. KGR-Sitzung
DTSTART:20260924T193000
DTEND:20260924T213000
DTSTAMP:20260419T000000Z
LOCATION:Konrad-Beringer-Haus, Bittenfeld
TRANSP:TRANSPARENT
BEGIN:VALARM
TRIGGER:-PT0H30M
ACTION:DISPLAY
SUMMARY:ökum. KGR-Sitzung
END:VALARM
END:VEVENT
END:VCALENDAR