BEGIN:VCALENDAR
VERSION:2.0
METHOD:PUBLISH
X-WR-CALNAME:Gottesdienste-Bittenfeld-Oktober-2026
PRODID:-//www.se-winnenden.de//iCal
X-WR-CALDESC:Gottesdienste
X-WR-TIMEZONE:Europe/Berlin
CALSCALE:GREGORIAN
BEGIN:VEVENT
UID:SEWSL-Bittenfeld-b14643373
DESCRIPTION:Ökum. Erntedank-Gottesdienst
SUMMARY:Ökum. Erntedank-Gottesdienst
DTSTART:20261004T103000
DTEND:20261004T113000
DTSTAMP:20260421T000000Z
LOCATION:Kirche St. Martin Bittenfeld
TRANSP:TRANSPARENT
BEGIN:VALARM
TRIGGER:-PT0H30M
ACTION:DISPLAY
SUMMARY:Ökum. Erntedank-Gottesdienst
END:VALARM
END:VEVENT
BEGIN:VEVENT
UID:SEWSL-Bittenfeld-s15049117
DESCRIPTION:Eucharistische Anbetung
SUMMARY:Eucharistische Anbetung
DTSTART:20261004T170000
DTEND:20261004T180000
DTSTAMP:20260421T000000Z
LOCATION:Kirche St. Maria, Schwaikheim
TRANSP:TRANSPARENT
BEGIN:VALARM
TRIGGER:-PT0H30M
ACTION:DISPLAY
SUMMARY:Eucharistische Anbetung
END:VALARM
END:VEVENT
BEGIN:VEVENT
UID:SEWSL-Bittenfeld-b14679952
DESCRIPTION:Eucharistiefeier
SUMMARY:Eucharistiefeier
DTSTART:20261011T090000
DTEND:20261011T100000
DTSTAMP:20260421T000000Z
LOCATION:Kirche St. Martin Bittenfeld
TRANSP:TRANSPARENT
BEGIN:VALARM
TRIGGER:-PT0H30M
ACTION:DISPLAY
SUMMARY:Eucharistiefeier
END:VALARM
END:VEVENT
BEGIN:VEVENT
UID:SEWSL-Bittenfeld-b15161597
DESCRIPTION:Wortgottesdienst
SUMMARY:Wortgottesdienst
DTSTART:20261011T103000
DTEND:20261011T110000
DTSTAMP:20260421T000000Z
LOCATION:Haus Elim, Bittenfeld
TRANSP:TRANSPARENT
BEGIN:VALARM
TRIGGER:-PT0H30M
ACTION:DISPLAY
SUMMARY:Wortgottesdienst
END:VALARM
END:VEVENT
BEGIN:VEVENT
UID:SEWSL-Bittenfeld-b14720085
DESCRIPTION:Wortgottesdienst
SUMMARY:Wortgottesdienst
DTSTART:20261018T090000
DTEND:20261018T100000
DTSTAMP:20260421T000000Z
LOCATION:Kirche St. Martin Bittenfeld
TRANSP:TRANSPARENT
BEGIN:VALARM
TRIGGER:-PT0H30M
ACTION:DISPLAY
SUMMARY:Wortgottesdienst
END:VALARM
END:VEVENT
END:VCALENDAR