BEGIN:VCALENDAR
VERSION:2.0
METHOD:PUBLISH
X-WR-CALNAME:Gottesdienste-Bittenfeld-Mai-2026
PRODID:-//www.se-winnenden.de//iCal
X-WR-CALDESC:Gottesdienste
X-WR-TIMEZONE:Europe/Berlin
CALSCALE:GREGORIAN
BEGIN:VEVENT
UID:SEWSL-Bittenfeld-b14390123
DESCRIPTION:Wortgottesdienst
SUMMARY:Wortgottesdienst
DTSTART:20260503T090000
DTEND:20260503T100000
DTSTAMP:20260421T000000Z
LOCATION:Kirche St. Martin Bittenfeld
TRANSP:TRANSPARENT
BEGIN:VALARM
TRIGGER:-PT0H30M
ACTION:DISPLAY
SUMMARY:Wortgottesdienst
END:VALARM
END:VEVENT
BEGIN:VEVENT
UID:SEWSL-Bittenfeld-s15049100
DESCRIPTION:Eucharistische Anbetung
SUMMARY:Eucharistische Anbetung
DTSTART:20260503T170000
DTEND:20260503T180000
DTSTAMP:20260421T000000Z
LOCATION:Kirche St. Maria, Schwaikheim
TRANSP:TRANSPARENT
BEGIN:VALARM
TRIGGER:-PT0H30M
ACTION:DISPLAY
SUMMARY:Eucharistische Anbetung
END:VALARM
END:VEVENT
BEGIN:VEVENT
UID:SEWSL-Bittenfeld-b15148500
DESCRIPTION:Eucharistiefeier
SUMMARY:Eucharistiefeier
DTSTART:20260514T090000
DTEND:20260514T100000
DTSTAMP:20260421T000000Z
LOCATION:Kirche St. Martin Bittenfeld
TRANSP:TRANSPARENT
BEGIN:VALARM
TRIGGER:-PT0H30M
ACTION:DISPLAY
SUMMARY:Eucharistiefeier
END:VALARM
END:VEVENT
BEGIN:VEVENT
UID:SEWSL-Bittenfeld-b14390129
DESCRIPTION:Wortgottesdienst
SUMMARY:Wortgottesdienst
DTSTART:20260517T090000
DTEND:20260517T100000
DTSTAMP:20260421T000000Z
LOCATION:Kirche St. Martin Bittenfeld
TRANSP:TRANSPARENT
BEGIN:VALARM
TRIGGER:-PT0H30M
ACTION:DISPLAY
SUMMARY:Wortgottesdienst
END:VALARM
END:VEVENT
BEGIN:VEVENT
UID:SEWSL-Bittenfeld-b15148538
DESCRIPTION:Kinderkirche
SUMMARY:Kinderkirche
DTSTART:20260517T090000
DTEND:20260517T100000
DTSTAMP:20260421T000000Z
LOCATION:Martinssaal St. Martin Bittenfeld
TRANSP:TRANSPARENT
BEGIN:VALARM
TRIGGER:-PT0H30M
ACTION:DISPLAY
SUMMARY:Kinderkirche
END:VALARM
END:VEVENT
BEGIN:VEVENT
UID:SEWSL-Bittenfeld-b15148746
DESCRIPTION:Tauffeier
SUMMARY:Tauffeier
DTSTART:20260523T110000
DTEND:20260523T120000
DTSTAMP:20260421T000000Z
LOCATION:Kirche St. Martin Bittenfeld
TRANSP:TRANSPARENT
BEGIN:VALARM
TRIGGER:-PT0H30M
ACTION:DISPLAY
SUMMARY:Tauffeier
END:VALARM
END:VEVENT
BEGIN:VEVENT
UID:SEWSL-Bittenfeld-w15329198
DESCRIPTION:Beichtgelegenheit
SUMMARY:Beichtgelegenheit
DTSTART:20260523T160000
DTEND:20260523T170000
DTSTAMP:20260421T000000Z
LOCATION:Kirche St. Karl Borromäus, Winnenden
TRANSP:TRANSPARENT
BEGIN:VALARM
TRIGGER:-PT0H30M
ACTION:DISPLAY
SUMMARY:Beichtgelegenheit
END:VALARM
END:VEVENT
BEGIN:VEVENT
UID:SEWSL-Bittenfeld-b14390043
DESCRIPTION:Eucharistiefeier
SUMMARY:Eucharistiefeier
DTSTART:20260524T090000
DTEND:20260524T100000
DTSTAMP:20260421T000000Z
LOCATION:Kirche St. Martin Bittenfeld
TRANSP:TRANSPARENT
BEGIN:VALARM
TRIGGER:-PT0H30M
ACTION:DISPLAY
SUMMARY:Eucharistiefeier
END:VALARM
END:VEVENT
BEGIN:VEVENT
UID:SEWSL-Bittenfeld-b15149144
DESCRIPTION:Wortgottesdienst
SUMMARY:Wortgottesdienst
DTSTART:20260524T103000
DTEND:20260524T113000
DTSTAMP:20260421T000000Z
LOCATION:Haus Elim, Bittenfeld
TRANSP:TRANSPARENT
BEGIN:VALARM
TRIGGER:-PT0H30M
ACTION:DISPLAY
SUMMARY:Wortgottesdienst
END:VALARM
END:VEVENT
BEGIN:VEVENT
UID:SEWSL-Bittenfeld-b15148853
DESCRIPTION:Wortgottesdienst
SUMMARY:Wortgottesdienst
DTSTART:20260531T090000
DTEND:20260531T100000
DTSTAMP:20260421T000000Z
LOCATION:Kirche St. Martin Bittenfeld
TRANSP:TRANSPARENT
BEGIN:VALARM
TRIGGER:-PT0H30M
ACTION:DISPLAY
SUMMARY:Wortgottesdienst
END:VALARM
END:VEVENT
END:VCALENDAR