BEGIN:VCALENDAR
VERSION:2.0
METHOD:PUBLISH
X-WR-CALNAME:Gottesdienste-Bittenfeld-August-2026
PRODID:-//www.se-winnenden.de//iCal
X-WR-CALDESC:Gottesdienste
X-WR-TIMEZONE:Europe/Berlin
CALSCALE:GREGORIAN
BEGIN:VEVENT
UID:SEWSL-Bittenfeld-b14390159
DESCRIPTION:Wortgottesdienst
SUMMARY:Wortgottesdienst
DTSTART:20260802T090000
DTEND:20260802T100000
DTSTAMP:20260421T000000Z
LOCATION:Kirche St. Martin Bittenfeld
TRANSP:TRANSPARENT
BEGIN:VALARM
TRIGGER:-PT0H30M
ACTION:DISPLAY
SUMMARY:Wortgottesdienst
END:VALARM
END:VEVENT
BEGIN:VEVENT
UID:SEWSL-Bittenfeld-b14393760
DESCRIPTION:Eucharistiefeier
SUMMARY:Eucharistiefeier
DTSTART:20260809T090000
DTEND:20260809T100000
DTSTAMP:20260421T000000Z
LOCATION:Kirche St. Martin Bittenfeld
TRANSP:TRANSPARENT
BEGIN:VALARM
TRIGGER:-PT0H30M
ACTION:DISPLAY
SUMMARY:Eucharistiefeier
END:VALARM
END:VEVENT
BEGIN:VEVENT
UID:SEWSL-Bittenfeld-b15161593
DESCRIPTION:Wortgottesdienst
SUMMARY:Wortgottesdienst
DTSTART:20260809T103000
DTEND:20260809T110000
DTSTAMP:20260421T000000Z
LOCATION:Haus Elim, Bittenfeld
TRANSP:TRANSPARENT
BEGIN:VALARM
TRIGGER:-PT0H30M
ACTION:DISPLAY
SUMMARY:Wortgottesdienst
END:VALARM
END:VEVENT
BEGIN:VEVENT
UID:SEWSL-Bittenfeld-b14417564
DESCRIPTION:Wortgottesdienst
SUMMARY:Wortgottesdienst
DTSTART:20260816T090000
DTEND:20260816T100000
DTSTAMP:20260421T000000Z
LOCATION:Kirche St. Martin Bittenfeld
TRANSP:TRANSPARENT
BEGIN:VALARM
TRIGGER:-PT0H30M
ACTION:DISPLAY
SUMMARY:Wortgottesdienst
END:VALARM
END:VEVENT
BEGIN:VEVENT
UID:SEWSL-Bittenfeld-b14440935
DESCRIPTION:Eucharistiefeier
SUMMARY:Eucharistiefeier
DTSTART:20260823T090000
DTEND:20260823T100000
DTSTAMP:20260421T000000Z
LOCATION:Kirche St. Martin Bittenfeld
TRANSP:TRANSPARENT
BEGIN:VALARM
TRIGGER:-PT0H30M
ACTION:DISPLAY
SUMMARY:Eucharistiefeier
END:VALARM
END:VEVENT
BEGIN:VEVENT
UID:SEWSL-Bittenfeld-b15161594
DESCRIPTION:Wortgottesdienst
SUMMARY:Wortgottesdienst
DTSTART:20260823T103000
DTEND:20260823T110000
DTSTAMP:20260421T000000Z
LOCATION:Haus Elim, Bittenfeld
TRANSP:TRANSPARENT
BEGIN:VALARM
TRIGGER:-PT0H30M
ACTION:DISPLAY
SUMMARY:Wortgottesdienst
END:VALARM
END:VEVENT
BEGIN:VEVENT
UID:SEWSL-Bittenfeld-b15203378
DESCRIPTION:Wortgottesdienst
SUMMARY:Wortgottesdienst
DTSTART:20260830T090000
DTEND:20260830T100000
DTSTAMP:20260421T000000Z
LOCATION:Kirche St. Martin Bittenfeld
TRANSP:TRANSPARENT
BEGIN:VALARM
TRIGGER:-PT0H30M
ACTION:DISPLAY
SUMMARY:Wortgottesdienst
END:VALARM
END:VEVENT
END:VCALENDAR