BEGIN:VCALENDAR
VERSION:2.0
METHOD:PUBLISH
X-WR-CALNAME:Gottesdienste-Bittenfeld-April-2026
PRODID:-//www.se-winnenden.de//iCal
X-WR-CALDESC:Gottesdienste
X-WR-TIMEZONE:Europe/Berlin
CALSCALE:GREGORIAN
BEGIN:VEVENT
UID:SEWSL-Bittenfeld-b14390031
DESCRIPTION:Eucharistiefeier
SUMMARY:Eucharistiefeier
DTSTART:20260426T090000
DTEND:20260426T100000
DTSTAMP:20260421T000000Z
LOCATION:Kirche St. Martin Bittenfeld
TRANSP:TRANSPARENT
BEGIN:VALARM
TRIGGER:-PT0H30M
ACTION:DISPLAY
SUMMARY:Eucharistiefeier
END:VALARM
END:VEVENT
BEGIN:VEVENT
UID:SEWSL-Bittenfeld-b13959162
DESCRIPTION:Wortgottesdienst
SUMMARY:Wortgottesdienst
DTSTART:20260426T103000
DTEND:20260426T110000
DTSTAMP:20260421T000000Z
LOCATION:Haus Elim, Bittenfeld
TRANSP:TRANSPARENT
BEGIN:VALARM
TRIGGER:-PT0H30M
ACTION:DISPLAY
SUMMARY:Wortgottesdienst
END:VALARM
END:VEVENT
END:VCALENDAR